BEGIN:VCALENDAR
VERSION:2.0
PRODID:-//Buurtschap de Lent - ECPv6.13.2.1//NONSGML v1.0//EN
CALSCALE:GREGORIAN
METHOD:PUBLISH
X-WR-CALNAME:Buurtschap de Lent
X-ORIGINAL-URL:https://www.buurtschapdelent.nl
X-WR-CALDESC:Evenementen voor Buurtschap de Lent
REFRESH-INTERVAL;VALUE=DURATION:PT1H
X-Robots-Tag:noindex
X-PUBLISHED-TTL:PT1H
BEGIN:VTIMEZONE
TZID:Europe/Amsterdam
BEGIN:DAYLIGHT
TZOFFSETFROM:+0100
TZOFFSETTO:+0200
TZNAME:CEST
DTSTART:20260329T010000
END:DAYLIGHT
BEGIN:STANDARD
TZOFFSETFROM:+0200
TZOFFSETTO:+0100
TZNAME:CET
DTSTART:20261025T010000
END:STANDARD
BEGIN:DAYLIGHT
TZOFFSETFROM:+0100
TZOFFSETTO:+0200
TZNAME:CEST
DTSTART:20270328T010000
END:DAYLIGHT
BEGIN:STANDARD
TZOFFSETFROM:+0200
TZOFFSETTO:+0100
TZNAME:CET
DTSTART:20271031T010000
END:STANDARD
END:VTIMEZONE
BEGIN:VEVENT
DTSTART;TZID=Europe/Amsterdam:20260503T080000
DTEND;TZID=Europe/Amsterdam:20260503T130000
DTSTAMP:20260420T020055
CREATED:20260118T142342Z
LAST-MODIFIED:20260118T142342Z
UID:16788-1777795200-1777813200@www.buurtschapdelent.nl
SUMMARY:Wandelevenement
DESCRIPTION:
URL:https://www.buurtschapdelent.nl/event/wandelevenement/
END:VEVENT
BEGIN:VEVENT
DTSTART;TZID=Europe/Amsterdam:20260612T190000
DTEND;TZID=Europe/Amsterdam:20260612T233000
DTSTAMP:20260420T020055
CREATED:20260118T142433Z
LAST-MODIFIED:20260118T142433Z
UID:16791-1781290800-1781307000@www.buurtschapdelent.nl
SUMMARY:Thema avond 1
DESCRIPTION:
URL:https://www.buurtschapdelent.nl/event/thema-avond-1/
END:VEVENT
BEGIN:VEVENT
DTSTART;TZID=Europe/Amsterdam:20260724T080000
DTEND;TZID=Europe/Amsterdam:20260724T170000
DTSTAMP:20260420T020055
CREATED:20260118T142512Z
LAST-MODIFIED:20260118T142512Z
UID:16794-1784880000-1784912400@www.buurtschapdelent.nl
SUMMARY:Thema avond 2
DESCRIPTION:
URL:https://www.buurtschapdelent.nl/event/thema-avond-2-2/
END:VEVENT
BEGIN:VEVENT
DTSTART;TZID=Europe/Amsterdam:20260726T090000
DTEND;TZID=Europe/Amsterdam:20260726T170000
DTSTAMP:20260420T020055
CREATED:20260118T142557Z
LAST-MODIFIED:20260118T142557Z
UID:16796-1785056400-1785085200@www.buurtschapdelent.nl
SUMMARY:Laszondag
DESCRIPTION:
URL:https://www.buurtschapdelent.nl/event/laszondag/
END:VEVENT
BEGIN:VEVENT
DTSTART;TZID=Europe/Amsterdam:20260814T190000
DTEND;TZID=Europe/Amsterdam:20260814T223000
DTSTAMP:20260420T020055
CREATED:20260118T145132Z
LAST-MODIFIED:20260118T145132Z
UID:16816-1786734000-1786746600@www.buurtschapdelent.nl
SUMMARY:Thema avond 3
DESCRIPTION:
URL:https://www.buurtschapdelent.nl/event/thema-avond-3/
END:VEVENT
BEGIN:VEVENT
DTSTART;TZID=Europe/Amsterdam:20260823T090000
DTEND;TZID=Europe/Amsterdam:20260823T170000
DTSTAMP:20260420T020055
CREATED:20260118T145237Z
LAST-MODIFIED:20260118T145237Z
UID:16818-1787475600-1787504400@www.buurtschapdelent.nl
SUMMARY:Plak zondag
DESCRIPTION:
URL:https://www.buurtschapdelent.nl/event/plak-zondag/
END:VEVENT
BEGIN:VEVENT
DTSTART;TZID=Europe/Amsterdam:20260829T080000
DTEND;TZID=Europe/Amsterdam:20260830T170000
DTSTAMP:20260420T020055
CREATED:20260118T145428Z
LAST-MODIFIED:20260118T145428Z
UID:16822-1787990400-1788109200@www.buurtschapdelent.nl
SUMMARY:Doorwerkweekend
DESCRIPTION:
URL:https://www.buurtschapdelent.nl/event/doorwerkweekend/
END:VEVENT
BEGIN:VEVENT
DTSTART;TZID=Europe/Amsterdam:20260829T180000
DTEND;TZID=Europe/Amsterdam:20260829T190000
DTSTAMP:20260420T020055
CREATED:20260118T145324Z
LAST-MODIFIED:20260118T145324Z
UID:16820-1788026400-1788030000@www.buurtschapdelent.nl
SUMMARY:Pizza pasta avond
DESCRIPTION:
URL:https://www.buurtschapdelent.nl/event/pizza-pasta-avond-2/
END:VEVENT
BEGIN:VEVENT
DTSTART;TZID=Europe/Amsterdam:20260903T170000
DTEND;TZID=Europe/Amsterdam:20260905T233000
DTSTAMP:20260420T020055
CREATED:20260118T150215Z
LAST-MODIFIED:20260118T150215Z
UID:16826-1788454800-1788651000@www.buurtschapdelent.nl
SUMMARY:Tik weekend
DESCRIPTION:
URL:https://www.buurtschapdelent.nl/event/tik-weekend/
END:VEVENT
BEGIN:VEVENT
DTSTART;TZID=Europe/Amsterdam:20260906T130000
DTEND;TZID=Europe/Amsterdam:20260906T233000
DTSTAMP:20260420T020055
CREATED:20260118T145829Z
LAST-MODIFIED:20260118T150100Z
UID:16824-1788699600-1788737400@www.buurtschapdelent.nl
SUMMARY:Corso zondag
DESCRIPTION:
URL:https://www.buurtschapdelent.nl/event/corso-zondag/
END:VEVENT
BEGIN:VEVENT
DTSTART;TZID=Europe/Amsterdam:20260907T100000
DTEND;TZID=Europe/Amsterdam:20260907T233000
DTSTAMP:20260420T020055
CREATED:20260118T150435Z
LAST-MODIFIED:20260118T150435Z
UID:16828-1788775200-1788823800@www.buurtschapdelent.nl
SUMMARY:Corso maandag
DESCRIPTION:
URL:https://www.buurtschapdelent.nl/event/corso-maandag/
END:VEVENT
BEGIN:VEVENT
DTSTART;TZID=Europe/Amsterdam:20260908T090000
DTEND;TZID=Europe/Amsterdam:20260908T170000
DTSTAMP:20260420T020055
CREATED:20260118T150546Z
LAST-MODIFIED:20260118T150546Z
UID:16830-1788858000-1788886800@www.buurtschapdelent.nl
SUMMARY:Tent afbreken
DESCRIPTION:
URL:https://www.buurtschapdelent.nl/event/tent-afbreken/
END:VEVENT
BEGIN:VEVENT
DTSTART;TZID=Europe/Amsterdam:20261003T150000
DTEND;TZID=Europe/Amsterdam:20261003T230000
DTSTAMP:20260420T020055
CREATED:20260118T150646Z
LAST-MODIFIED:20260118T150646Z
UID:16832-1791039600-1791068400@www.buurtschapdelent.nl
SUMMARY:Buurtfeest
DESCRIPTION:
URL:https://www.buurtschapdelent.nl/event/buurtfeest/
END:VEVENT
BEGIN:VEVENT
DTSTART;TZID=Europe/Amsterdam:20270110T150000
DTEND;TZID=Europe/Amsterdam:20270110T170000
DTSTAMP:20260420T020055
CREATED:20260118T150732Z
LAST-MODIFIED:20260118T150732Z
UID:16834-1799593200-1799600400@www.buurtschapdelent.nl
SUMMARY:Nieuwjaarsborrel
DESCRIPTION:
URL:https://www.buurtschapdelent.nl/event/nieuwjaarsborrel-2/
END:VEVENT
END:VCALENDAR